BEGIN:VCALENDAR
VERSION:2.0
PRODID:-//eventon.com NONSGML v1.0//EN
CALSCALE:GREGORIAN
METHOD:PUBLISH
BEGIN:VEVENT
UID:69e8a4a584697
DTSTAMP:20260422T103621Z
DTSTART:20250103T153000Z
DTEND:20250103T225900Z
LOCATION:Centro Cívico
SUMMARY:Taller en euskera. Lego creativo
DESCRIPTION:3 de enero 2025 | 16:30 y 17:45 | Centro CívicoTaller en euske
 ra. Lego creativo16:30 | Dirigido a personas de 3 a 8 años. Precio: 8€17
 :45 | Dirigido a personas de 9 a 12 años. Precio: 10€Actividad organizad
 a por Eraiki Guraso Elkartea. Más info e inscripciones eneraikigurasoelkar
 tea@gmail.com\nhttps://noain.es/events/taller-en-euskera-lego-creativo-2/
URL:https://noain.es/events/taller-en-euskera-lego-creativo-2/
END:VEVENT
END:VCALENDAR