BEGIN:VCALENDAR
VERSION:2.0
PRODID:-//eventon.com NONSGML v1.0//EN
CALSCALE:GREGORIAN
METHOD:PUBLISH
BEGIN:VEVENT
UID:69e738074b20e
DTSTAMP:20260421T084039Z
DTSTART:20250103T170000Z
DTEND:20250103T225900Z
LOCATION:Zulueta
SUMMARY:Cabalgata en Zulueta y Elorz
DESCRIPTION:4 de enero 2025 | 18:00 | Zulueta y ElorzCabalgata en Zulueta y
  ElorzSS. MM. los Reyes Magos de Oriente visitarán las localidades de Zulu
 eta y Elorz\nhttps://noain.es/events/cabalgata-en-zulueta-y-elorz/
URL:https://noain.es/events/cabalgata-en-zulueta-y-elorz/
END:VEVENT
END:VCALENDAR