BEGIN:VCALENDAR
VERSION:2.0
PRODID:-//eventon.com NONSGML v1.0//EN
CALSCALE:GREGORIAN
METHOD:PUBLISH
BEGIN:VEVENT
UID:69ea320c6712c
DTSTAMP:20260423T145156Z
DTSTART:20250214T193000Z
DTEND:20250214T225900Z
LOCATION:Centro Cultural de Noáin
SUMMARY:Dantza: Guille Vidal-Ribas eta Javi Casado "Transmissions\,  conferencia bailada sobre danzas urbanas"
DESCRIPTION:\nhttps://noain.es/events/dantza-guille-bidal-ribas-eta-javi-ca
 sado/
URL:https://noain.es/events/dantza-guille-bidal-ribas-eta-javi-casado/
END:VEVENT
END:VCALENDAR