BEGIN:VCALENDAR
VERSION:2.0
PRODID:-//eventon.com NONSGML v1.0//EN
CALSCALE:GREGORIAN
METHOD:PUBLISH
BEGIN:VEVENT
UID:69e7506b1ff41
DTSTAMP:20260421T102443Z
DTSTART:20250531T050000Z
DTEND:20250531T210000Z
LOCATION:
SUMMARY:Fiestas de Otano año 2025
DESCRIPTION:\nhttps://noain.es/events/fiestas-de-otano-ano-2025/
URL:https://noain.es/events/fiestas-de-otano-ano-2025/
END:VEVENT
END:VCALENDAR