BEGIN:VCALENDAR
VERSION:2.0
PRODID:-//eventon.com NONSGML v1.0//EN
CALSCALE:GREGORIAN
METHOD:PUBLISH
BEGIN:VEVENT
UID:69e738066c15a
DTSTAMP:20260421T084038Z
DTSTART:20250814T050000Z
DTEND:20250816T210000Z
LOCATION:
SUMMARY:Fiestas de Elorz - 2025
DESCRIPTION:\nhttps://noain.es/events/fiestas-de-elorz-2025/
URL:https://noain.es/events/fiestas-de-elorz-2025/
END:VEVENT
END:VCALENDAR