BEGIN:VCALENDAR
VERSION:2.0
PRODID:-//eventon.com NONSGML v1.0//EN
CALSCALE:GREGORIAN
METHOD:PUBLISH
BEGIN:VEVENT
UID:69e5ec01c76c4
DTSTAMP:20260420T090401Z
DTSTART:20250821T050000Z
DTEND:20250824T210000Z
LOCATION:
SUMMARY:Fiestas de Imárcoain - 2025
DESCRIPTION:\nhttps://noain.es/events/fiestas-de-imarcoain-2025/
URL:https://noain.es/events/fiestas-de-imarcoain-2025/
END:VEVENT
END:VCALENDAR