BEGIN:VCALENDAR
VERSION:2.0
PRODID:-//eventon.com NONSGML v1.0//EN
CALSCALE:GREGORIAN
METHOD:PUBLISH
BEGIN:VEVENT
UID:69e5fdc5eba94
DTSTAMP:20260420T101949Z
DTSTART:20250905T050000Z
DTEND:20250907T210000Z
LOCATION:
SUMMARY:Fiestas de Zulueta - 2025
DESCRIPTION:\nhttps://noain.es/events/fiestas-de-zulueta-2025/
URL:https://noain.es/events/fiestas-de-zulueta-2025/
END:VEVENT
END:VCALENDAR