BEGIN:VCALENDAR
VERSION:2.0
PRODID:-//eventon.com NONSGML v1.0//EN
CALSCALE:GREGORIAN
METHOD:PUBLISH
BEGIN:VEVENT
UID:69e5ec94b080e
DTSTAMP:20260420T090628Z
DTSTART:20250908T050000Z
DTEND:20250908T210000Z
LOCATION:
SUMMARY:Fiestas de Óriz - 2025
DESCRIPTION:\nhttps://noain.es/events/fiestas-de-oriz-2025/
URL:https://noain.es/events/fiestas-de-oriz-2025/
END:VEVENT
END:VCALENDAR