BEGIN:VCALENDAR
VERSION:2.0
PRODID:-//eventon.com NONSGML v1.0//EN
CALSCALE:GREGORIAN
METHOD:PUBLISH
BEGIN:VEVENT
UID:69e5ecdf98c19
DTSTAMP:20260420T090743Z
DTSTART:20250531T070000Z
DTEND:20250531T215900Z
LOCATION:Elorz
SUMMARY:Elortzeko eguna
DESCRIPTION:\nhttps://noain.es/events/elortzeko-eguna/
URL:https://noain.es/events/elortzeko-eguna/
END:VEVENT
END:VCALENDAR