BEGIN:VCALENDAR
VERSION:2.0
PRODID:-//eventon.com NONSGML v1.0//EN
CALSCALE:GREGORIAN
METHOD:PUBLISH
BEGIN:VEVENT
UID:69e74fa0a1295
DTSTAMP:20260421T102120Z
DTSTART:20250614T190000Z
DTEND:20250614T215900Z
LOCATION:Imarkoain
SUMMARY:Música: Concierto - La Banda del Desagüe
DESCRIPTION:Público al que va dirigido: todos los públicos. Entrada: libr
 e. La Banda del Desagüe promete casi dos horas con canciones de Loquillo\,
   Los Secretos\,  Orquesta Mondragón\,  Nacha Pop\,  Tequila y muchos más
 . La forman un grupo de amigos de Pamplona\,  ya cuarentones\,  que un día
  decidió juntarse para recordar las[..]\nhttps://noain.es/events/musica-co
 ncierto-la-banda-del-desague/
URL:https://noain.es/events/musica-concierto-la-banda-del-desague/
END:VEVENT
END:VCALENDAR