BEGIN:VCALENDAR
VERSION:2.0
PRODID:-//eventon.com NONSGML v1.0//EN
CALSCALE:GREGORIAN
METHOD:PUBLISH
BEGIN:VEVENT
UID:69e63c20f1770
DTSTAMP:20260420T144552Z
DTSTART:20250404T183000Z
DTEND:20250404T215900Z
LOCATION:Noaingo Kultur Zentroa
SUMMARY:WAR BABY - YLLANA
DESCRIPTION:Nori zuzendua: Gazte eta helduentzat. Sarrera: 10\, 00â‚¬ Butac
 a 3/Besaulkia programaren barruko ikuskizuna Yllana estiloan\,  Â«War babyÂ
 » k errekrutatze militarreko zentro batera eramango gaitu. Bertan\,  despis
 tatu talde bat herrialdeko buruzagi berriak sortu duen gerra zentzugabe bat
 erako trebatuko dute\,  haurtxo baimendua eta gerrazalea baita. Pertsonaia 
 dibertigarrien zerrenda bat eta gerraren eta boterearen[..]\nhttps://noain.
 es/events/war-baby-yllana-2/
URL:https://noain.es/events/war-baby-yllana-2/
END:VEVENT
END:VCALENDAR