BEGIN:VCALENDAR
VERSION:2.0
PRODID:-//eventon.com NONSGML v1.0//EN
CALSCALE:GREGORIAN
METHOD:PUBLISH
BEGIN:VEVENT
UID:69e60a3d73fe2
DTSTAMP:20260420T111301Z
DTSTART:20250603T173000Z
DTEND:20250603T215900Z
LOCATION:Musika eskolako entzungela
SUMMARY:Noaingo "Julián Gayarre" Musika Eskolako saxofoi ikasleen entzunaldia
DESCRIPTION:\nhttps://noain.es/events/noaingo-julian-gayarre-musika-eskolak
 o-saxofoi-ikasleen-entzunaldia/
URL:https://noain.es/events/noaingo-julian-gayarre-musika-eskolako-saxofoi-ikasleen-entzunaldia/
END:VEVENT
END:VCALENDAR