BEGIN:VCALENDAR
VERSION:2.0
PRODID:-//eventon.com NONSGML v1.0//EN
CALSCALE:GREGORIAN
METHOD:PUBLISH
BEGIN:VEVENT
UID:69e5ecfc061c3
DTSTAMP:20260420T090812Z
DTSTART:20250907T170000Z
DTEND:20250907T215900Z
LOCATION:Plaza de los Fueros de Noáin
SUMMARY:LAKARRI DANTZA TALDEA (Valle de Egüés) - Iruñerria Dantzabira
DESCRIPTION:La Federación de Danzaris de Navarra trae hasta Noáin el prog
 rama cultural Iruñerria Dantzabira\,  una gira en la que participan grupos
  de danzas de distintas localidades\,  junto con sus respectivos ayuntamien
 tos\,  de tal forma que cada grupo ofrece su espectáculo en otra població
 n\,  fomentando así la relación y la colaboración[..]\nhttps://noain.es/
 events/lakarri-dantza-taldea-valle-de-egues-irunerria-dantzabira/
URL:https://noain.es/events/lakarri-dantza-taldea-valle-de-egues-irunerria-dantzabira/
END:VEVENT
END:VCALENDAR