BEGIN:VCALENDAR
VERSION:2.0
PRODID:-//eventon.com NONSGML v1.0//EN
CALSCALE:GREGORIAN
METHOD:PUBLISH
BEGIN:VEVENT
UID:69e73864c5ebe
DTSTAMP:20260421T084212Z
DTSTART:20250905T163000Z
DTEND:20250905T183000Z
LOCATION:Lorenea
SUMMARY:EHUN ESTANPAZIO SORTZAILEA - YANIRA CALVO
DESCRIPTION:Publiko gazte eta heldua | +14 urte Aurretiko izen ematea dohai
 nik Bertako sortzaile eta artista Yanira Calvok tailer hau planteatzen du z
 ure ehun-jantziak tuneatzeko teknika berriak esperimentatzeko eta aurkitzek
 o.\nhttps://noain.es/events/ehun-estanpazio-sortzailea-yanira-calvo/
URL:https://noain.es/events/ehun-estanpazio-sortzailea-yanira-calvo/
END:VEVENT
END:VCALENDAR