BEGIN:VCALENDAR
VERSION:2.0
PRODID:-//eventon.com NONSGML v1.0//EN
CALSCALE:GREGORIAN
METHOD:PUBLISH
BEGIN:VEVENT
UID:69e6227482d13
DTSTAMP:20260420T125620Z
DTSTART:20251015T150000Z
DTEND:20251015T215900Z
LOCATION:Noaingo Liburutegi Publikoa
SUMMARY:Sergio Salinas - Ipuin Kontalaria
DESCRIPTION:\nhttps://noain.es/events/sergio-salinas-ipuin-kontalaria/
URL:https://noain.es/events/sergio-salinas-ipuin-kontalaria/
END:VEVENT
END:VCALENDAR