BEGIN:VCALENDAR
VERSION:2.0
PRODID:-//eventon.com NONSGML v1.0//EN
CALSCALE:GREGORIAN
METHOD:PUBLISH
BEGIN:VEVENT
UID:69e6073d30a48
DTSTAMP:20260420T110013Z
DTSTART:20251029T160000Z
DTEND:20251029T225900Z
LOCATION:Biblioteca Pública de Noáin
SUMMARY:Yanira Calvo - Taller de marcapáginas y caretas terroríficas
DESCRIPTION:Entrada libre previa inscripción | Público infantil +4 años\
 nhttps://noain.es/events/yanira-calvo-taller-de-marcapaginas-y-caretas-terr
 orificas/
URL:https://noain.es/events/yanira-calvo-taller-de-marcapaginas-y-caretas-terrorificas/
END:VEVENT
END:VCALENDAR