BEGIN:VCALENDAR
VERSION:2.0
PRODID:-//eventon.com NONSGML v1.0//EN
CALSCALE:GREGORIAN
METHOD:PUBLISH
BEGIN:VEVENT
UID:69e5ec01c326b
DTSTAMP:20260420T090401Z
DTSTART:20251230T100000Z
DTEND:20251230T225900Z
LOCATION:Biblioteca Pública de Noáin
SUMMARY:Pasadas las 4 - Taller: 108 años en memoria de Gloria Fuentes
DESCRIPTION:\nhttps://noain.es/events/pasadas-las-4-taller-108-anos-en-memo
 ria-de-gloria-fuentes/
URL:https://noain.es/events/pasadas-las-4-taller-108-anos-en-memoria-de-gloria-fuentes/
END:VEVENT
END:VCALENDAR