BEGIN:VCALENDAR
VERSION:2.0
PRODID:-//eventon.com NONSGML v1.0//EN
CALSCALE:GREGORIAN
METHOD:PUBLISH
BEGIN:VEVENT
UID:69e60347aa57c
DTSTAMP:20260420T104319Z
DTSTART:20260412T160000Z
DTEND:20260412T180000Z
LOCATION:Centro Cultural de Noáin
SUMMARY:Chiquitina\,  la reina de los bosques
DESCRIPTION:La Ratonera TeatroPúblico al que va dirigido: Niños/as de 3 a
  8 años. Entrada: 5 euros. «Chiquitina\,  la reina de los bosques” cuen
 ta la historia de una pequeña flor de la que todos se reían por su tamañ
 o\,  hasta que&nbsp; un día el destino pone en sus manos la posibilidad[..
 ]\nhttps://noain.es/events/chiquitina-la-reina-de-los-bosques/
URL:https://noain.es/events/chiquitina-la-reina-de-los-bosques/
END:VEVENT
END:VCALENDAR