BEGIN:VCALENDAR
VERSION:2.0
PRODID:-//eventon.com NONSGML v1.0//EN
CALSCALE:GREGORIAN
METHOD:PUBLISH
BEGIN:VEVENT
UID:69e6031457800
DTSTAMP:20260420T104228Z
DTSTART:20260417T183000Z
DTEND:20260417T203000Z
LOCATION:Centro Cultural de Noáin
SUMMARY:Primital Madness
DESCRIPTION:Yllana &amp; Primital BrothersPúblico al que va dirigido: Jóv
 enes y adultos.Entrada: 10 euros. (Espectáculo incluido en abono) De las m
 entes inescrutables que crearon “The Primitals” en 2016\,  nace ahora 
 Madness”\,  una comedia musical sobre la vida en los márgenes del sist
 ema. De codearse con la élite a dormir bajo un[..]\nhttps://noain.es/event
 s/primital-madness/
URL:https://noain.es/events/primital-madness/
END:VEVENT
END:VCALENDAR