BEGIN:VCALENDAR
VERSION:2.0
PRODID:-//eventon.com NONSGML v1.0//EN
CALSCALE:GREGORIAN
METHOD:PUBLISH
BEGIN:VEVENT
UID:69e603ce2c80e
DTSTAMP:20260420T104534Z
DTSTART:20260424T183000Z
DTEND:20260424T203000Z
LOCATION:Centro Cultural de Noáin
SUMMARY:¡Ahora!
DESCRIPTION:Compañía Maite GuevaraPúblico al que va dirigido: Jóvenes y
  adultos.Entrada: 9 euros. (Espectáculo incluido en abono) Martina está a
 quí. Y está preparada. Lleva mucho tiempo esperando este momento. Rebosa\
 ,  desborda\,  explota de entusiasmo. Es capaz de transitar todos los desaf
 íos\,  de sortear todos los problemas\,  de  embarcarse en lo que[..]\nht
 tps://noain.es/events/ahora/
URL:https://noain.es/events/ahora/
END:VEVENT
END:VCALENDAR