BEGIN:VCALENDAR
VERSION:2.0
PRODID:-//eventon.com NONSGML v1.0//EN
CALSCALE:GREGORIAN
METHOD:PUBLISH
BEGIN:VEVENT
UID:69e603146756c
DTSTAMP:20260420T104228Z
DTSTART:20260430T183000Z
DTEND:20260430T203000Z
LOCATION:Biblioteca Pública de Noáin
SUMMARY:Vivir es peligroso
DESCRIPTION:Producciones MaestrasPúblico al que va dirigido: Jóvenes y ad
 ultos.Entrada: Gratuita\,  previa retirada de invitación. La vida es extra
 ña\,  a veces resulta maravillosa\,  a veces\,  cruel. Esta vida\,  la vid
 a que se nos escurre ante los ojos\,  se transforma y se expande\,  se esco
 nde o se hace mínima\,  pero no deja[..]\nhttps://noain.es/events/vivir-es
 -peligroso/
URL:https://noain.es/events/vivir-es-peligroso/
END:VEVENT
END:VCALENDAR