BEGIN:VCALENDAR
VERSION:2.0
PRODID:-//eventon.com NONSGML v1.0//EN
CALSCALE:GREGORIAN
METHOD:PUBLISH
BEGIN:VEVENT
UID:69e602991603a
DTSTAMP:20260420T104025Z
DTSTART:20260503T180000Z
DTEND:20260503T200000Z
LOCATION:Centro Cultural de Noáin
SUMMARY:2 minutos y medio
DESCRIPTION:Taller de Teatro Zizur MayorPúblico al que se dirige: Jóvenes
  y adultos.Entrada: 4 euros. (Espectáculo incluido en abono «Teatro de aq
 uí») Centro de salud público. Año 2050. El personal sanitario y los pac
 ientes sobreviven a la precariedad\,  la burocracia y la privatización enc
 ubierta de la sanidad. Un sistema automatizado y[..]\nhttps://noain.es/even
 ts/2-minutos-y-medio/
URL:https://noain.es/events/2-minutos-y-medio/
END:VEVENT
END:VCALENDAR