BEGIN:VCALENDAR
VERSION:2.0
PRODID:-//eventon.com NONSGML v1.0//EN
CALSCALE:GREGORIAN
METHOD:PUBLISH
BEGIN:VEVENT
UID:69e602ea7466e
DTSTAMP:20260420T104146Z
DTSTART:20260517T180000Z
DTEND:20260517T200000Z
LOCATION:Centro Cultural de Noáin
SUMMARY:Un embrollo divino
DESCRIPTION:Taller de Teatro de BarañáinPúblico al que va dirigido: Jóv
 enes y adultos.Entrada: 4 euros. (Espectáculo incluido en abono «Teatro d
 e aquí») Asumir que nos hemos equivocado no es fácil. Apechugar con las 
 consecuencias\,  menos. Pero esto forma parte del tránsito vital del ser h
 umano : equivocarse\,  apechugar y volver a[..]\nhttps://noain.es/events/un
 -embrollo-divino/
URL:https://noain.es/events/un-embrollo-divino/
END:VEVENT
END:VCALENDAR