BEGIN:VCALENDAR
VERSION:2.0
PRODID:-//eventon.com NONSGML v1.0//EN
CALSCALE:GREGORIAN
METHOD:PUBLISH
BEGIN:VEVENT
UID:69e602ea7ec84
DTSTAMP:20260420T104146Z
DTSTART:20260524T180000Z
DTEND:20260524T200000Z
LOCATION:Centro Cultural de Noáin
SUMMARY:Historias de bar
DESCRIPTION:Grupo de Teatro de la UPNAPúblico al que va dirigido: Jóvenes
  y adultos.Entrada: 4 euros. (Espectáculo incluido en el abono «Teatro de
  aquí») “Historias de bar” es una colección de historias breves que 
 se desarrollan en un bar con un hilo conductor: la música. Las historias s
 e desarrollan con momentos[..]\nhttps://noain.es/events/historias-de-bar/
URL:https://noain.es/events/historias-de-bar/
END:VEVENT
END:VCALENDAR