BEGIN:VCALENDAR
VERSION:2.0
PRODID:-//eventon.com NONSGML v1.0//EN
CALSCALE:GREGORIAN
METHOD:PUBLISH
BEGIN:VEVENT
UID:69e602928a6d5
DTSTAMP:20260420T104018Z
DTSTART:20260529T183000Z
DTEND:20260529T203000Z
LOCATION:Centro Cultural de Noáin
SUMMARY:Hablemos de amor
DESCRIPTION:Taller de teatro del Valle de Elorz.Público al que va dirigido
 : Jóvenes y adultos.Entrada : 4 euros. (Espectáculo incluido en el abono 
 «Teatro de aquí») Sí\,  hablemos del amor una vez más. Y también del 
 desamor\,  ¿por qué no? Busquemos la lógica a lo que es una sinrazón\, 
  a través[..]\nhttps://noain.es/events/hablemos-de-amor/
URL:https://noain.es/events/hablemos-de-amor/
END:VEVENT
END:VCALENDAR