BEGIN:VCALENDAR
VERSION:2.0
PRODID:-//eventon.com NONSGML v1.0//EN
CALSCALE:GREGORIAN
METHOD:PUBLISH
BEGIN:VEVENT
UID:69e602991abe3
DTSTAMP:20260420T104025Z
DTSTART:20260508T160000Z
DTEND:20260508T180000Z
LOCATION:Plaza de los Gigantes de Noáin
SUMMARY:Welcome & Sorry
DESCRIPTION:Ganso &amp; CiaPúblico al que va dirigido: Todos los públicos
 .Entrada: Libre Se abre el telón: “To be or not to be!“. Hasta ahí to
 do bien. Dos amantes del teatro representarán “Hamlet” con total fidel
 idad al original. El tener que hacer el trabajo de una docena de artistas y
  técnicos\,  el[..]\nhttps://noain.es/events/welcome-sorry/
URL:https://noain.es/events/welcome-sorry/
END:VEVENT
END:VCALENDAR