BEGIN:VCALENDAR
VERSION:2.0
PRODID:-//eventon.com NONSGML v1.0//EN
CALSCALE:GREGORIAN
METHOD:PUBLISH
BEGIN:VEVENT
UID:69e602925494c
DTSTAMP:20260420T104018Z
DTSTART:20260510T170000Z
DTEND:20260510T190000Z
LOCATION:Centro Cultural de Noáin
SUMMARY:FutbolisTOC
DESCRIPTION:Zuhaitz GurrutxagaPúblico al que se dirige: Jóvenes y adultos
 .Entrada: 7 euros. Pocos años después de su retirada del fútbol profesio
 nal\,  Gurrutxaga presenta ”FutbolisTOC”\,  su segundo trabajo en solit
 ario. El eje central de este espectáculo lo constituye su época de jugado
 r de primera división. Además de recuperar algunos pasajes de su[..]\nhtt
 ps://noain.es/events/futbolisto/
URL:https://noain.es/events/futbolisto/
END:VEVENT
END:VCALENDAR