BEGIN:VCALENDAR
VERSION:2.0
PRODID:-//eventon.com NONSGML v1.0//EN
CALSCALE:GREGORIAN
METHOD:PUBLISH
BEGIN:VEVENT
UID:69e60347963db
DTSTAMP:20260420T104319Z
DTSTART:20260515T183000Z
DTEND:20260515T203000Z
LOCATION:Centro Cultural de Noáin
SUMMARY:De improvisto show
DESCRIPTION:De ImprovistoPúblico al que se dirige: Jóvenes y adultos.Entr
 ada: 9 euros. (Espectáculo incluido en abono). “De Improviso Show” es 
 un espectáculo donde el elenco crea historias improvisadas a partir de las
  propuestas del público\,  que se convierte en el verdadero protagonista d
 e la velada. Estas historias son únicas y sumergen[..]\nhttps://noain.es/e
 vents/de-imporvisto-show/
URL:https://noain.es/events/de-imporvisto-show/
END:VEVENT
END:VCALENDAR