BEGIN:VCALENDAR
VERSION:2.0
PRODID:-//eventon.com NONSGML v1.0//EN
CALSCALE:GREGORIAN
METHOD:PUBLISH
BEGIN:VEVENT
UID:69e738014fea5
DTSTAMP:20260421T084033Z
DTSTART:20170817T200000Z
DTEND:20170817T215900Z
LOCATION:Plaza de los Fueros de Noáin
SUMMARY:¡CANTA!
DESCRIPTION:Recomendada para todos los públicos. Buster Moon es un elegant
 e koala que regenta un teatro que conoció tiempos mejores. Es un optimista
  nato y un poco caradura\,  pero ama a su teatro con pasión y es capaz de 
 cualquier cosa para salvarlo. Sabe que el sueño de su vida está[..]\nhttp
 s://noain.es/events/canta/
URL:https://noain.es/events/canta/
END:VEVENT
END:VCALENDAR