BEGIN:VCALENDAR
VERSION:2.0
PRODID:-//eventon.com NONSGML v1.0//EN
CALSCALE:GREGORIAN
METHOD:PUBLISH
BEGIN:VEVENT
UID:69e5ec03344c3
DTSTAMP:20260420T090403Z
DTSTART:20171103T200000Z
DTEND:20171103T220000Z
LOCATION:Biblioteca Pública de Noáin
SUMMARY:BIBLIOTECA OFF -VELADA POÉTICA MUSICAL
DESCRIPTION:Evento dirigido a jóvenes y adultos. Entrada: Libre. JAVIER AS
 IÁIN &#8211; JORGE SÁNCHEZ Velada a cargo del poeta JAVIER ASIÁIN y el c
 antautor cubano JORGE SÁNCHEZ que inaugura el Programa Biblioteca Off &#82
 11; D.O. Navarra On de este curso\,  en el que estrenamos colaboración con
  el Consejo Regulador D.O. Navarra[..]\nhttps://noain.es/events/biblioteca-
 off-velada-poetica-musical/
URL:https://noain.es/events/biblioteca-off-velada-poetica-musical/
END:VEVENT
END:VCALENDAR