BEGIN:VCALENDAR
VERSION:2.0
PRODID:-//eventon.com NONSGML v1.0//EN
CALSCALE:GREGORIAN
METHOD:PUBLISH
BEGIN:VEVENT
UID:69e5ed5d47baf
DTSTAMP:20260420T090949Z
DTSTART:20180210T173000Z
DTEND:20180210T200000Z
LOCATION:Calles de NoÃ¡in
SUMMARY:Desfile de Carnaval
DESCRIPTION:Este aÃ±o organizamos un novedoso Carnaval con Txantxagain. NoÃ
 ¡in tendrÃ¡ su propio Carnaval. Â¡AnÃ­mate y participa!\nhttps://noain.es/e
 vents/desfile-de-carnaval/
URL:https://noain.es/events/desfile-de-carnaval/
END:VEVENT
END:VCALENDAR