BEGIN:VCALENDAR
VERSION:2.0
PRODID:-//eventon.com NONSGML v1.0//EN
CALSCALE:GREGORIAN
METHOD:PUBLISH
BEGIN:VEVENT
UID:69e7380cc1a1b
DTSTAMP:20260421T084044Z
DTSTART:20180524T153000Z
DTEND:20180524T173000Z
LOCATION:Centro Municipal Lorenea de Noáin
SUMMARY:ENCUENTRO CON AUTORA: REGINA SALCEDO
DESCRIPTION:Espectáculo dirigido a jóvenes y adultos. Entrada libre. En e
 sta reunión extraordinaria del club de lectura juvenil contaremos con una 
 invitada muy especial: la novelista y poeta Regina Salcedo\,  que ha escrit
 o la saga juvenil fantástica “Los libros de Ollumarh”\,  cuyo primer l
 ibro será leído  comentado por los jóvenes miembros.\nhttps://noain.es/
 events/encuentro-autora-regina-salcedo/
URL:https://noain.es/events/encuentro-autora-regina-salcedo/
END:VEVENT
END:VCALENDAR