BEGIN:VCALENDAR
VERSION:2.0
PRODID:-//eventon.com NONSGML v1.0//EN
CALSCALE:GREGORIAN
METHOD:PUBLISH
BEGIN:VEVENT
UID:69e5ec739739f
DTSTAMP:20260420T090555Z
DTSTART:20190530T170000Z
DTEND:20190530T190000Z
LOCATION:Centro Cultural de Noáin
SUMMARY:Muestra Taller de Teatro Joven
DESCRIPTION:Espectáculos dirigido a todos los públicos. Entrada: libre\, 
  con invitación. TALLER DE TEATRO JOVEN DE NOÁIN Las alumnas y alumnos de
 l Taller de Teatro Joven de Noáin pondrán en escena una muestra del traba
 jo realizado en este curso\,  representando escenas relacionadas con el aco
 so escolar\,  materia sobre la que han[..]\nhttps://noain.es/events/muestra
 -taller-de-teatro-joven/
URL:https://noain.es/events/muestra-taller-de-teatro-joven/
END:VEVENT
END:VCALENDAR