BEGIN:VCALENDAR
VERSION:2.0
PRODID:-//eventon.com NONSGML v1.0//EN
CALSCALE:GREGORIAN
METHOD:PUBLISH
BEGIN:VEVENT
UID:69ea9f8172767
DTSTAMP:20260423T223857Z
DTSTART:20190524T140000Z
DTEND:20190529T190000Z
LOCATION:Noaingo Kultur Zentroa
SUMMARY:Ikasturte bukaerako erakusketa
DESCRIPTION:KULTUR ZENTROAREN HAURRENTZAKO MARGOKETA TAILERRAREN ERAKUSKETA
 \nhttps://noain.es/events/ikasturte-bukaerako-erakusketa-2/
URL:https://noain.es/events/ikasturte-bukaerako-erakusketa-2/
END:VEVENT
END:VCALENDAR