BEGIN:VCALENDAR
VERSION:2.0
PRODID:-//eventon.com NONSGML v1.0//EN
CALSCALE:GREGORIAN
METHOD:PUBLISH
BEGIN:VEVENT
UID:69e6016b37a70
DTSTAMP:20260420T103523Z
DTSTART:20190621T220100Z
DTEND:20190622T215900Z
LOCATION:Santurtzi
SUMMARY:Topaketa Edurne Portela idazlearekin
DESCRIPTION:Gazte eta helduentzako jarduera.\nhttps://noain.es/events/topak
 eta-edurne-portela-idazlearekin/
URL:https://noain.es/events/topaketa-edurne-portela-idazlearekin/
END:VEVENT
END:VCALENDAR