BEGIN:VCALENDAR
VERSION:2.0
PRODID:-//eventon.com NONSGML v1.0//EN
CALSCALE:GREGORIAN
METHOD:PUBLISH
BEGIN:VEVENT
UID:69ebf46c47a6e
DTSTAMP:20260424T225332Z
DTSTART:20191112T171000Z
DTEND:20191112T181000Z
LOCATION:Biblioteca Pública de Noáin
SUMMARY:CUENTACUENTOS EN INGLÉS: "THE MAGIC FINGER"
DESCRIPTION:Público al que va dirigido: Niños/as mayores de 4 años. Entr
 ada: libre. JOE O´MAIRTIN &nbsp; Atención: recuerda que a las sesiones in
 fantiles de cuentacuentos únicamente pueden entrar los niños/as. &nbsp;\n
 https://noain.es/events/cuentacuentos-en-ingles-the-magic-finger/
URL:https://noain.es/events/cuentacuentos-en-ingles-the-magic-finger/
END:VEVENT
END:VCALENDAR