BEGIN:VCALENDAR
VERSION:2.0
PRODID:-//eventon.com NONSGML v1.0//EN
CALSCALE:GREGORIAN
METHOD:PUBLISH
BEGIN:VEVENT
UID:69e5ec74867c5
DTSTAMP:20260420T090556Z
DTSTART:20200311T171000Z
DTEND:20200311T181000Z
LOCATION:Biblioteca Pública de Noáin
SUMMARY:THE SMARTEST GIANT
DESCRIPTION:Espectáculo dirigido a niños/as mayores de 4 años. Entrada: 
 libre. JOE O´MAIRTIN (INGLÉS) ATENCIÓN: Recuerda que a las sesiones infa
 ntiles de cuentacuentos únicamente pueden entrar los niños/as.\nhttps://n
 oain.es/events/the-smartest-giant/
URL:https://noain.es/events/the-smartest-giant/
END:VEVENT
END:VCALENDAR