BEGIN:VCALENDAR
VERSION:2.0
PRODID:-//eventon.com NONSGML v1.0//EN
CALSCALE:GREGORIAN
METHOD:PUBLISH
BEGIN:VEVENT
UID:69e5ec320741b
DTSTAMP:20260420T090450Z
DTSTART:20201127T181500Z
DTEND:20201127T200000Z
LOCATION:Centro Cultural de Noáin
SUMMARY:Maestrissimo (Pagagnini 2)
DESCRIPTION:Espectáculo dirigido a jóvenes y adultos. Entrada: 10 euros. 
 YLLANA En la misma línea que “Pagagnini”\,  pero con una entidad propi
 a\,  “Maestrissimo” deleitará a los espectadores con una cuidadísima 
 estética y unos personajes divertidísimos\,  abordando temas como la éti
 ca\,  la creación\,  la originalidad y el valor del arte en la[..]\nhttps:
 //noain.es/events/maestrissimo-pagagnini-2/
URL:https://noain.es/events/maestrissimo-pagagnini-2/
END:VEVENT
END:VCALENDAR