BEGIN:VCALENDAR
VERSION:2.0
PRODID:-//eventon.com NONSGML v1.0//EN
CALSCALE:GREGORIAN
METHOD:PUBLISH
BEGIN:VEVENT
UID:69e5ec142b225
DTSTAMP:20260420T090420Z
DTSTART:20210307T170000Z
DTEND:20210307T190000Z
LOCATION:Centro Cultural de Noáin
SUMMARY:Espías con disfraz
DESCRIPTION:Espectáculo dirigido a público infantil y familiar. Entrada: 
 2\, 50 euros. El superespía Lance Sterling y el científico Walter Beckett
  son casi polos opuestos.Walter y Lance tienen que confiar el uno en el otr
 o\,  ya que si esta extraña pareja no puede aprender a trabajar en equipo\
 ,  todo el mundo estará[..]\nhttps://noain.es/events/espias-con-disfraz/
URL:https://noain.es/events/espias-con-disfraz/
END:VEVENT
END:VCALENDAR