BEGIN:VCALENDAR
VERSION:2.0
PRODID:-//eventon.com NONSGML v1.0//EN
CALSCALE:GREGORIAN
METHOD:PUBLISH
BEGIN:VEVENT
UID:69e603ae0e4ca
DTSTAMP:20260420T104502Z
DTSTART:20220318T173000Z
DTEND:20220318T190000Z
LOCATION:Centro Cultural de Noáin
SUMMARY:Recital de Poesía: SOMOS NOSOTRAS
DESCRIPTION:Cartel Recital de Poesia Marzo 2022\nhttps://noain.es/events/re
 cital-de-poesia-somos-nosotras/
URL:https://noain.es/events/recital-de-poesia-somos-nosotras/
END:VEVENT
END:VCALENDAR